BEGIN:VCALENDAR
VERSION:2.0
PRODID:-//ChamberMaster//Event Calendar 2.0//EN
METHOD:PUBLISH
X-PUBLISHED-TTL:P3D
REFRESH-INTERVAL:P3D
CALSCALE:GREGORIAN
BEGIN:VEVENT
DTSTART:20220126T233000Z
DTEND:20220127T010000Z
X-MICROSOFT-CDO-ALLDAYEVENT:FALSE
SUMMARY:After Hours Networking Mixer
DESCRIPTION:Join us Wednesday\, from 5:30 PM- 7 PM for our after hours mixer.
X-ALT-DESC;FMTTYPE=text/html:<div><span style="color:#000000\;"><span style="font-size: 16px\; font-family: Calibri\, Helvetica\, Arial\, sans-serif\;">Join us </span><span style="font-size: 16px\; font-family: Calibri\, Helvetica\, Arial\, sans-serif\; font-weight: bold\;">Wednesday\, </span><span style="font-size: 16px\; font-family: Calibri\, Helvetica\, Arial\, sans-serif\;">from 5:30 PM- 7 PM for our after hours mixer.</span></span></div>\n\n<div>&nbsp\;</div>\n
LOCATION:
UID:e.2624.2390
SEQUENCE:3
DTSTAMP:20260425T224124Z
URL:https://business.irvinghcc.com/events/details/after-hours-networking-mixer-2390
END:VEVENT

END:VCALENDAR
